BEGIN:VCALENDAR
VERSION:2.0
BEGIN:VEVENT
DTSTART;TZID=Europe/Stockholm:20251026T100000
DTEND;TZID=Europe/Stockholm:20251026T110000
DTSTAMP:20260422T230250
DESCRIPTION:*Tema: &#34;Be:fästa&#34;* &#34;Liksom ni tog emot Kristus Jesus som Herren, så lev i honom, rotade och uppbyggda i honom och grundade i tron...&#34; (Kol 2:6-7) Fredrik Lagerström m.fl.
Sång av Erika Bergkvist
#Kyrkkaffe#
SEQUENCE:0
SUMMARY:Gudstjänst
UID:4324@lawebb.se
END:VEVENT
END:VCALENDAR