BEGIN:VCALENDAR
VERSION:2.0
BEGIN:VEVENT
DTSTART;TZID=Europe/Stockholm:20251102T100000
DTEND;TZID=Europe/Stockholm:20251102T110000
DTSTAMP:20260423T003950
DESCRIPTION:*Sånger om himlen*
Harald Fritzson, Margaretha Werneskog, Elisabeth Oscarsson m.fl.
#Kyrkkaffe#
SEQUENCE:0
SUMMARY:Gudstjänst
UID:9486@lawebb.se
END:VEVENT
END:VCALENDAR