BEGIN:VCALENDAR
VERSION:2.0
BEGIN:VEVENT
DTSTART;TZID=Europe/Stockholm:20251104T100000
DTEND;TZID=Europe/Stockholm:20251104T110000
DTSTAMP:20260423T003919
DESCRIPTION:
SEQUENCE:0
SUMMARY:Öppna förskolan i Ankaret 👶🏼🧒🏽
UID:4327@lawebb.se
END:VEVENT
END:VCALENDAR