BEGIN:VCALENDAR
VERSION:2.0
BEGIN:VEVENT
DTSTART;TZID=Europe/Stockholm:20251104T183000
DTEND;TZID=Europe/Stockholm:20251104T193000
DTSTAMP:20260423T004012
DESCRIPTION:Ta med eget fikabröd.
SEQUENCE:0
SUMMARY:Stickcafé i Ankaret
UID:8366@lawebb.se
END:VEVENT
END:VCALENDAR