BEGIN:VCALENDAR
VERSION:2.0
BEGIN:VEVENT
DTSTART;TZID=Europe/Stockholm:20251109T100000
DTEND;TZID=Europe/Stockholm:20251109T110000
DTSTAMP:20260423T003422
DESCRIPTION:*Tema: &#34;Be:vittna&#34;* &#34;Hjälp dina tjänare att frimodigt förkunna ditt ord...&#34; (Apg 4:29-33) Fredrik Lagerström, Stefan Zinkell m.fl.
#Kyrkkaffe#
SEQUENCE:0
SUMMARY:Gudstjänst med nattvard
UID:4352@lawebb.se
END:VEVENT
END:VCALENDAR