BEGIN:VCALENDAR
VERSION:2.0
BEGIN:VEVENT
DTSTART;TZID=Europe/Stockholm:20251115T190000
DTEND;TZID=Europe/Stockholm:20251115T200000
DTSTAMP:20260423T003421
DESCRIPTION:Erika Lagerström, Benjamin Ström m.fl
SEQUENCE:0
SUMMARY:Lovsångskväll
UID:7954@lawebb.se
END:VEVENT
END:VCALENDAR