BEGIN:VCALENDAR
VERSION:2.0
BEGIN:VEVENT
DTSTART;TZID=Europe/Stockholm:20251116T100000
DTEND;TZID=Europe/Stockholm:20251116T110000
DTSTAMP:20260423T003026
DESCRIPTION:*Tema: &#34;Be:vara&#34;* &#34;Mer än allt som ska bevaras, bevara ditt hjärta, för därifrån utgår livet&#34; (Ordspråksboken 4:23)
Fredrik Lagerström, Ann-Lis Bengtsson
Sång av Erika Bergkvist
#Kyrkkaffe#
SEQUENCE:0
SUMMARY:Gudstjänst
UID:5489@lawebb.se
END:VEVENT
END:VCALENDAR