BEGIN:VCALENDAR
VERSION:2.0
BEGIN:VEVENT
DTSTART;TZID=Europe/Stockholm:20251122T130000
DTEND;TZID=Europe/Stockholm:20251122T140000
DTSTAMP:20260423T003421
DESCRIPTION:Hantverk, lotterier, fika, andakt.....
10% av försäljningen och hela intäkten av lotteri och café
går till församlingens ungdomsverksamhet
SEQUENCE:0
SUMMARY:Julmarknad kl. 13.00 - 18.00
UID:4754@lawebb.se
END:VEVENT
END:VCALENDAR