BEGIN:VCALENDAR
VERSION:2.0
BEGIN:VEVENT
DTSTART;TZID=Europe/Stockholm:20251123T100000
DTEND;TZID=Europe/Stockholm:20251123T110000
DTSTAMP:20260423T004139
DESCRIPTION:Magnus Bylander, Elisabeth Oscarsson
Sång av Ann-Marie Skölde
#Kyrkkaffe#
SEQUENCE:0
SUMMARY:Gudstjänst
UID:6576@lawebb.se
END:VEVENT
END:VCALENDAR