BEGIN:VCALENDAR
VERSION:2.0
BEGIN:VEVENT
DTSTART;TZID=Europe/Stockholm:20251130T100000
DTEND;TZID=Europe/Stockholm:20251130T110000
DTSTAMP:20260423T003219
DESCRIPTION:*Advent - Laddad förväntan*
Fredrik Lagerström, Stefan Zinkell
Sång av &#34;vildmännen&#34; och Christina Lindsmyr
#Kyrkkaffe#
SEQUENCE:0
SUMMARY:Gudstjänst - 1:a advent
UID:9223@lawebb.se
END:VEVENT
END:VCALENDAR