BEGIN:VCALENDAR
VERSION:2.0
BEGIN:VEVENT
DTSTART;TZID=Europe/Stockholm:20251130T140000
DTEND;TZID=Europe/Stockholm:20251130T150000
DTSTAMP:20260423T003517
DESCRIPTION:Julskyltning och öppet på Kaffe&Böner
vi firar 4 år!
17.00 Adventsandakt
SEQUENCE:0
SUMMARY:Advents-öppet Kaffe&Böner i Laholms missionshus
UID:3235@lawebb.se
END:VEVENT
END:VCALENDAR