BEGIN:VCALENDAR
VERSION:2.0
BEGIN:VEVENT
DTSTART;TZID=Europe/Stockholm:20251202T183000
DTEND;TZID=Europe/Stockholm:20251202T193000
DTSTAMP:20260423T024228
DESCRIPTION:Ta med eget fikabröd.
SEQUENCE:0
SUMMARY:Stickcafé i Ankaret
UID:7383@lawebb.se
END:VEVENT
END:VCALENDAR