BEGIN:VCALENDAR
VERSION:2.0
BEGIN:VEVENT
DTSTART;TZID=Europe/Stockholm:20251203T190000
DTEND;TZID=Europe/Stockholm:20251203T200000
DTSTAMP:20260423T023828
DESCRIPTION:
SEQUENCE:0
SUMMARY:Bibelstudie 📖 i Ankaret
UID:7824@lawebb.se
END:VEVENT
END:VCALENDAR