BEGIN:VCALENDAR
VERSION:2.0
BEGIN:VEVENT
DTSTART;TZID=Europe/Stockholm:20251207T100000
DTEND;TZID=Europe/Stockholm:20251207T110000
DTSTAMP:20260423T024527
DESCRIPTION:*Bäärtil och Bäärta - från herdarnas äng*
Ann-Marie Skölde och Rikard Lindsmyr
#Kyrkkaffe#
SEQUENCE:0
SUMMARY:Gudstjänst för alla åldrar
UID:7443@lawebb.se
END:VEVENT
END:VCALENDAR