BEGIN:VCALENDAR
VERSION:2.0
BEGIN:VEVENT
DTSTART;TZID=Europe/Stockholm:20251214T100000
DTEND;TZID=Europe/Stockholm:20251214T110000
DTSTAMP:20260423T024227
DESCRIPTION:*Lucka 14 - det närmar sig...*
Fredrik Lagerström m.fl. 
Sång av Rolf Karlén
#Kyrkkaffe#
SEQUENCE:0
SUMMARY:Gudstjänst med nattvard
UID:4428@lawebb.se
END:VEVENT
END:VCALENDAR