BEGIN:VCALENDAR
VERSION:2.0
BEGIN:VEVENT
DTSTART;TZID=Europe/Stockholm:20251220T160000
DTEND;TZID=Europe/Stockholm:20251220T170000
DTSTAMP:20260423T024750
DESCRIPTION:*Hemkänsla - julens sånger*
Efteråt är det servering av skinksmörgås, lotterier i Ankaret
Servering + lott 50 kr/pers.
SEQUENCE:0
SUMMARY:Vi sjunger in julen
UID:6827@lawebb.se
END:VEVENT
END:VCALENDAR