BEGIN:VCALENDAR
VERSION:2.0
BEGIN:VEVENT
DTSTART;TZID=Europe/Stockholm:20260101T180000
DTEND;TZID=Europe/Stockholm:20260101T190000
DTSTAMP:20260423T042657
DESCRIPTION:*Och det blev afton och det blev morgon, den första dagen.*
Fredrik Lagerström, Stefan Zinkell m.fl.
SEQUENCE:0
SUMMARY:Inför det nya året, nattvard
UID:8822@lawebb.se
END:VEVENT
END:VCALENDAR