BEGIN:VCALENDAR
VERSION:2.0
BEGIN:VEVENT
DTSTART;TZID=Europe/Stockholm:20260106T100000
DTEND;TZID=Europe/Stockholm:20260106T110000
DTSTAMP:20260423T042123
DESCRIPTION:*Stjärnan från Betlehem*
Fredrik och Erika Lagerström m.fl.
#Kyrkkaffe#
SEQUENCE:0
SUMMARY:Gudstjänst - Bön
UID:6535@lawebb.se
END:VEVENT
END:VCALENDAR