BEGIN:VCALENDAR
VERSION:2.0
BEGIN:VEVENT
DTSTART;TZID=Europe/Stockholm:20260107T190000
DTEND;TZID=Europe/Stockholm:20260107T200000
DTSTAMP:20260423T042949
DESCRIPTION:
SEQUENCE:0
SUMMARY:Bön i Ankaret
UID:9974@lawebb.se
END:VEVENT
END:VCALENDAR