BEGIN:VCALENDAR
VERSION:2.0
BEGIN:VEVENT
DTSTART;TZID=Europe/Stockholm:20260111T100000
DTEND;TZID=Europe/Stockholm:20260111T110000
DTSTAMP:20260423T042404
DESCRIPTION:Fredrik Lagerström, Christina Karlén m.fl.
#Kyrkkaffe#
SEQUENCE:0
SUMMARY:Gudstjänst - Bön - i Ankaret!
UID:7375@lawebb.se
END:VEVENT
END:VCALENDAR