BEGIN:VCALENDAR
VERSION:2.0
BEGIN:VEVENT
DTSTART;TZID=Europe/Stockholm:20260112T000000
DTEND;TZID=Europe/Stockholm:20260112T240000
DTSTAMP:20260423T042523
DESCRIPTION:12-18 januari möts vi till bön med övriga kyrkor i Halmstad med omnejd (se program nedan). Observera olika tider och platser.
SEQUENCE:0
SUMMARY:EKUMENISKA BÖNEVECKAN
UID:7298@lawebb.se
END:VEVENT
END:VCALENDAR