BEGIN:VCALENDAR
VERSION:2.0
BEGIN:VEVENT
DTSTART;TZID=Europe/Stockholm:20260112T180000
DTEND;TZID=Europe/Stockholm:20260112T190000
DTSTAMP:20260423T042611
DESCRIPTION:Plats: Immanuelskyrkan
SEQUENCE:0
SUMMARY:Ekumenisk bönesamling
UID:7225@lawebb.se
END:VEVENT
END:VCALENDAR