BEGIN:VCALENDAR
VERSION:2.0
BEGIN:VEVENT
DTSTART;TZID=Europe/Stockholm:20260113T173000
DTEND;TZID=Europe/Stockholm:20260113T183000
DTSTAMP:20260423T042117
DESCRIPTION:Plats: Kornhillskyrkan, Vallås
SEQUENCE:0
SUMMARY:Ekumenisk bönesamling
UID:5755@lawebb.se
END:VEVENT
END:VCALENDAR