BEGIN:VCALENDAR
VERSION:2.0
BEGIN:VEVENT
DTSTART;TZID=Europe/Stockholm:20260114T180000
DTEND;TZID=Europe/Stockholm:20260114T190000
DTSTAMP:20260423T042241
DESCRIPTION:Plats: S:t Nikolai kyrka
SEQUENCE:0
SUMMARY:Ekumenisk bönesamling (Mässa)
UID:8659@lawebb.se
END:VEVENT
END:VCALENDAR