BEGIN:VCALENDAR
VERSION:2.0
BEGIN:VEVENT
DTSTART;TZID=Europe/Stockholm:20260115T183000
DTEND;TZID=Europe/Stockholm:20260115T193000
DTSTAMP:20260423T042836
DESCRIPTION:Plats: Björnstorpskyrkan, Oskarström
SEQUENCE:0
SUMMARY:Ekumenisk bönesamling
UID:7642@lawebb.se
END:VEVENT
END:VCALENDAR