BEGIN:VCALENDAR
VERSION:2.0
BEGIN:VEVENT
DTSTART;TZID=Europe/Stockholm:20260116T080000
DTEND;TZID=Europe/Stockholm:20260116T090000
DTSTAMP:20260423T042605
DESCRIPTION:Plats: S:t Petrus, NTO på Kärleken
Morgonbön med frukost
SEQUENCE:0
SUMMARY:Ekumenisk bönesamling
UID:9639@lawebb.se
END:VEVENT
END:VCALENDAR