BEGIN:VCALENDAR
VERSION:2.0
BEGIN:VEVENT
DTSTART;TZID=Europe/Stockholm:20260117T140000
DTEND;TZID=Europe/Stockholm:20260117T150000
DTSTAMP:20260423T042642
DESCRIPTION:Plats: Ankaret, Gullbrannakyrkan
Kreativ bön kl 14-17. Kom och var med så länge du har möjlighet.
SEQUENCE:0
SUMMARY:Ekumenisk bönesamling
UID:9743@lawebb.se
END:VEVENT
END:VCALENDAR