BEGIN:VCALENDAR
VERSION:2.0
BEGIN:VEVENT
DTSTART;TZID=Europe/Stockholm:20260118T160000
DTEND;TZID=Europe/Stockholm:20260118T170000
DTSTAMP:20260423T042912
DESCRIPTION:Avslutning på böneveckan. Predikan av Helen Bergh (Frälsningsarmén). Barnaktivitet i Församlingsgården (från kl 15.30). Kyrkfika efteråt.
SEQUENCE:0
SUMMARY:Ekumenisk gudstjänst i Söndrums kyrka
UID:2926@lawebb.se
END:VEVENT
END:VCALENDAR