BEGIN:VCALENDAR
VERSION:2.0
BEGIN:VEVENT
DTSTART;TZID=Europe/Stockholm:20260120T100000
DTEND;TZID=Europe/Stockholm:20260120T110000
DTSTAMP:20260423T042734
DESCRIPTION:
SEQUENCE:0
SUMMARY:Öppna förskolan i Ankaret 👶🏻👧🏼
UID:6982@lawebb.se
END:VEVENT
END:VCALENDAR