BEGIN:VCALENDAR
VERSION:2.0
BEGIN:VEVENT
DTSTART;TZID=Europe/Stockholm:20260122T110000
DTEND;TZID=Europe/Stockholm:20260122T120000
DTSTAMP:20260423T042235
DESCRIPTION:*Anders Nilsgård* berättar om ett personligt mirakel i sitt liv i samband med en svår traktorolycka under slutet av 2024.
Kostnad 50 kr/person inkl. fika
SEQUENCE:0
SUMMARY:Träff för daglediga
UID:7353@lawebb.se
END:VEVENT
END:VCALENDAR