BEGIN:VCALENDAR
VERSION:2.0
BEGIN:VEVENT
DTSTART;TZID=Europe/Stockholm:20260125T100000
DTEND;TZID=Europe/Stockholm:20260125T110000
DTSTAMP:20260423T042253
DESCRIPTION:Ann-Marie Skölde m.fl.
#Kyrkkaffe#
SEQUENCE:0
SUMMARY:Gudstjänst för alla åldrar
UID:8588@lawebb.se
END:VEVENT
END:VCALENDAR