BEGIN:VCALENDAR
VERSION:2.0
BEGIN:VEVENT
DTSTART;TZID=Europe/Stockholm:20260131T100000
DTEND;TZID=Europe/Stockholm:20260131T110000
DTSTAMP:20260423T043020
DESCRIPTION:kl. 10.00-12:30 och 13:30-16.00 (lunch däremellan). Fredrik Lagerström undervisar. Plats: Ankaret.

Lunch i restaurangen, kostnad 120 kr. Anmälan till lunchen:
pastor@gullbrannakyrkan.se eller skriv på lista i kyrkan
SEQUENCE:0
SUMMARY:Bibeldag - Om att dela evangeliet utifrån Markus
UID:3526@lawebb.se
END:VEVENT
END:VCALENDAR