BEGIN:VCALENDAR
VERSION:2.0
BEGIN:VEVENT
DTSTART;TZID=Europe/Stockholm:20260201T100000
DTEND;TZID=Europe/Stockholm:20260201T110000
DTSTAMP:20260423T061749
DESCRIPTION:*&#34;Guds gåva är det&#34;*
Fredrik Lagerström, Mikael Fasth m.fl.
Sång av Erika Bergkvist
#Kyrkkaffe#
SEQUENCE:0
SUMMARY:Gudstjänst med nattvard
UID:3487@lawebb.se
END:VEVENT
END:VCALENDAR