BEGIN:VCALENDAR
VERSION:2.0
BEGIN:VEVENT
DTSTART;TZID=Europe/Stockholm:20260203T100000
DTEND;TZID=Europe/Stockholm:20260203T110000
DTSTAMP:20260423T061552
DESCRIPTION:
SEQUENCE:0
SUMMARY:Öppna förskolan i Ankaret 👶🏻👧🏼
UID:2359@lawebb.se
END:VEVENT
END:VCALENDAR