BEGIN:VCALENDAR
VERSION:2.0
BEGIN:VEVENT
DTSTART;TZID=Europe/Stockholm:20260208T100000
DTEND;TZID=Europe/Stockholm:20260208T110000
DTSTAMP:20260423T061919
DESCRIPTION:fika, andakt, förhandlingar och avslutar med lunch.
SEQUENCE:0
SUMMARY:Årsmöte i Ankaret
UID:3456@lawebb.se
END:VEVENT
END:VCALENDAR