BEGIN:VCALENDAR
VERSION:2.0
BEGIN:VEVENT
DTSTART;TZID=Europe/Stockholm:20260215T100000
DTEND;TZID=Europe/Stockholm:20260215T110000
DTSTAMP:20260423T061419
DESCRIPTION:Lisbeth Gustafsson, Rolf Karlén
#Kyrkkaffe#
SEQUENCE:0
SUMMARY:Gudstjänst i Ankaret
UID:4844@lawebb.se
END:VEVENT
END:VCALENDAR