BEGIN:VCALENDAR
VERSION:2.0
BEGIN:VEVENT
DTSTART;TZID=Europe/Stockholm:20260220T180000
DTEND;TZID=Europe/Stockholm:20260220T190000
DTSTAMP:20260423T062037
DESCRIPTION:Midi: åk 4-6 *18:00 - 20:00* 
Maxi: åk 7 och uppåt *20:00 - 22:00*
Schysst häng, aktiviteter, fika och gemenskap
SEQUENCE:0
SUMMARY:Snäckan - Tonår i Ankaret
UID:6784@lawebb.se
END:VEVENT
END:VCALENDAR