BEGIN:VCALENDAR
VERSION:2.0
BEGIN:VEVENT
DTSTART;TZID=Europe/Stockholm:20260222T100000
DTEND;TZID=Europe/Stockholm:20260222T110000
DTSTAMP:20260423T061244
DESCRIPTION:*&#34;Kom så får ni se&#34;*
Fredrik Lagerström, Ann-Lis Bengtsson
#Kyrkkaffe#
SEQUENCE:0
SUMMARY:Gudstjänst i Ankaret
UID:9594@lawebb.se
END:VEVENT
END:VCALENDAR