BEGIN:VCALENDAR
VERSION:2.0
BEGIN:VEVENT
DTSTART;TZID=Europe/Stockholm:20260301T180000
DTEND;TZID=Europe/Stockholm:20260301T190000
DTSTAMP:20260423T074248
DESCRIPTION:Elisabeth och Bengt Oskarsson berättar om sitt besök hos missionärer i Asien
SEQUENCE:0
SUMMARY:Gudstjänst i Ankaret
UID:9637@lawebb.se
END:VEVENT
END:VCALENDAR