BEGIN:VCALENDAR
VERSION:2.0
BEGIN:VEVENT
DTSTART;TZID=Europe/Stockholm:20260305T110000
DTEND;TZID=Europe/Stockholm:20260305T120000
DTSTAMP:20260423T075238
DESCRIPTION:Ann-Lis Bengtsson: &#34;Mitt livs resa&#34; gick till Uganda
Kostnad inkl. fika 50 kr/person
SEQUENCE:0
SUMMARY:Dagledigträff med förmiddagskaffe
UID:7734@lawebb.se
END:VEVENT
END:VCALENDAR