BEGIN:VCALENDAR
VERSION:2.0
BEGIN:VEVENT
DTSTART;TZID=Europe/Stockholm:20260308T100000
DTEND;TZID=Europe/Stockholm:20260308T110000
DTSTAMP:20260423T074514
DESCRIPTION:*&#34;Det allra viktigaste&#34;*
Fredrik Lagerström, Christina Karlén
#Kyrkkaffe#
SEQUENCE:0
SUMMARY:Gudstjänst med nattvard
UID:4766@lawebb.se
END:VEVENT
END:VCALENDAR