BEGIN:VCALENDAR
VERSION:2.0
BEGIN:VEVENT
DTSTART;TZID=Europe/Stockholm:20260310T183000
DTEND;TZID=Europe/Stockholm:20260310T193000
DTSTAMP:20260423T075139
DESCRIPTION:Ta med eget fikabröd
SEQUENCE:0
SUMMARY:Stickcafé i Ankaret
UID:6659@lawebb.se
END:VEVENT
END:VCALENDAR