BEGIN:VCALENDAR
VERSION:2.0
BEGIN:VEVENT
DTSTART;TZID=Europe/Stockholm:20260310T100000
DTEND;TZID=Europe/Stockholm:20260310T110000
DTSTAMP:20260423T075225
DESCRIPTION:
SEQUENCE:0
SUMMARY:Öppna förskolan i Ankaret 👶🏻👧🏼
UID:3255@lawebb.se
END:VEVENT
END:VCALENDAR