BEGIN:VCALENDAR
VERSION:2.0
BEGIN:VEVENT
DTSTART;TZID=Europe/Stockholm:20260311T190000
DTEND;TZID=Europe/Stockholm:20260311T200000
DTSTAMP:20260423T075139
DESCRIPTION:Fredrik Lagerström
SEQUENCE:0
SUMMARY:Bibelstudie 📖 i Ankaret
UID:8473@lawebb.se
END:VEVENT
END:VCALENDAR