BEGIN:VCALENDAR
VERSION:2.0
BEGIN:VEVENT
DTSTART;TZID=Europe/Stockholm:20260315T100000
DTEND;TZID=Europe/Stockholm:20260315T110000
DTSTAMP:20260423T075231
DESCRIPTION:Ann-Marie Skölde & Rikard Lindsmyr
Lena Fasth, Erika Bergkvist och barnkör
#Kyrkkaffe#
SEQUENCE:0
SUMMARY:Gudstjänst för alla åldrar
UID:3336@lawebb.se
END:VEVENT
END:VCALENDAR