BEGIN:VCALENDAR
VERSION:2.0
BEGIN:VEVENT
DTSTART;TZID=Europe/Stockholm:20260317T100000
DTEND;TZID=Europe/Stockholm:20260317T110000
DTSTAMP:20260423T074652
DESCRIPTION:
SEQUENCE:0
SUMMARY:Öppna förskolan i Ankaret 👶🏻👧🏼
UID:6256@lawebb.se
END:VEVENT
END:VCALENDAR