BEGIN:VCALENDAR
VERSION:2.0
BEGIN:VEVENT
DTSTART;TZID=Europe/Stockholm:20260322T100000
DTEND;TZID=Europe/Stockholm:20260322T110000
DTSTAMP:20260423T074729
DESCRIPTION:*&#34;Älska din nästa&#34;*
Fredrik Lagerström, Stefan Zinkell
Sång av Erika Bergkvist
#Kyrkkaffe#
*Församlingsmöte*
SEQUENCE:0
SUMMARY:Gudstjänst
UID:3692@lawebb.se
END:VEVENT
END:VCALENDAR