BEGIN:VCALENDAR
VERSION:2.0
BEGIN:VEVENT
DTSTART;TZID=Europe/Stockholm:20260324T100000
DTEND;TZID=Europe/Stockholm:20260324T110000
DTSTAMP:20260423T074837
DESCRIPTION:
SEQUENCE:0
SUMMARY:Öppna förskolan i Ankaret 👶🏻👧🏼
UID:9545@lawebb.se
END:VEVENT
END:VCALENDAR