BEGIN:VCALENDAR
VERSION:2.0
BEGIN:VEVENT
DTSTART;TZID=Europe/Stockholm:20260329T100000
DTEND;TZID=Europe/Stockholm:20260329T110000
DTSTAMP:20260423T074838
DESCRIPTION:*&#34;Tjäna varandra&#34;*
Fredrik Lagerström, Mikael Fasth
Vildmanskören
#Kyrkkaffe#
SEQUENCE:0
SUMMARY:Gudstjänst
UID:8984@lawebb.se
END:VEVENT
END:VCALENDAR