BEGIN:VCALENDAR
VERSION:2.0
BEGIN:VEVENT
DTSTART;TZID=Europe/Stockholm:20260401T183000
DTEND;TZID=Europe/Stockholm:20260401T193000
DTSTAMP:20260423T094937
DESCRIPTION:Församlingens hemgrupper möts till en gemensam samling i Ankaret. Välkommen även om du inte är med i någon hemgrupp.
SEQUENCE:0
SUMMARY:Hemgrupper tillsammans
UID:9796@lawebb.se
END:VEVENT
END:VCALENDAR